BEGIN:VCALENDAR
VERSION:2.0
PRODID:-//Dade County Alumnae Chapter of Delta Sigma Theta Sorority, Inc. - ECPv6.5.1.3//NONSGML v1.0//EN
CALSCALE:GREGORIAN
METHOD:PUBLISH
X-ORIGINAL-URL:https://dadecountyalumnaedst.com
X-WR-CALDESC:Events for Dade County Alumnae Chapter of Delta Sigma Theta Sorority, Inc.
REFRESH-INTERVAL;VALUE=DURATION:PT1H
X-Robots-Tag:noindex
X-PUBLISHED-TTL:PT1H
BEGIN:VTIMEZONE
TZID:America/New_York
BEGIN:DAYLIGHT
TZOFFSETFROM:-0500
TZOFFSETTO:-0400
TZNAME:EDT
DTSTART:20240310T070000
END:DAYLIGHT
BEGIN:STANDARD
TZOFFSETFROM:-0400
TZOFFSETTO:-0500
TZNAME:EST
DTSTART:20241103T060000
END:STANDARD
END:VTIMEZONE
BEGIN:VEVENT
DTSTART;TZID=America/New_York:20240507T083000
DTEND;TZID=America/New_York:20240507T103000
DTSTAMP:20260419T122212
CREATED:20240503T034444Z
LAST-MODIFIED:20240506T034643Z
UID:1978-1715070600-1715077800@dadecountyalumnaedst.com
SUMMARY:Delta Day at Miami-Dade County
DESCRIPTION:Calling all Deltas for Delta Day at Miami-Dade County Government on Tuesday\, May 7th at 8:30 am. We will be in the Miami Dade County Commission Chambers 111 NW 1st Street Miami\, FL 33128. Please wear red and RSVP to dcac.political@gmail.com.
URL:https://dadecountyalumnaedst.com/event/delta-day-at-miami-dade-county-2/
LOCATION:111 N.W. 1st Street\, Miami\, FL 33132\, 111 N.W. 1st Street\, Miami\, 33132\, United States
END:VEVENT
END:VCALENDAR