BEGIN:VCALENDAR
VERSION:2.0
PRODID:-//Dade County Alumnae Chapter of Delta Sigma Theta Sorority, Inc. - ECPv6.5.1.3//NONSGML v1.0//EN
CALSCALE:GREGORIAN
METHOD:PUBLISH
X-ORIGINAL-URL:https://dadecountyalumnaedst.com
X-WR-CALDESC:Events for Dade County Alumnae Chapter of Delta Sigma Theta Sorority, Inc.
REFRESH-INTERVAL;VALUE=DURATION:PT1H
X-Robots-Tag:noindex
X-PUBLISHED-TTL:PT1H
BEGIN:VTIMEZONE
TZID:America/New_York
BEGIN:DAYLIGHT
TZOFFSETFROM:-0500
TZOFFSETTO:-0400
TZNAME:EDT
DTSTART:20250309T070000
END:DAYLIGHT
BEGIN:STANDARD
TZOFFSETFROM:-0400
TZOFFSETTO:-0500
TZNAME:EST
DTSTART:20251102T060000
END:STANDARD
END:VTIMEZONE
BEGIN:VEVENT
DTSTART;VALUE=DATE:20250110
DTEND;VALUE=DATE:20250119
DTSTAMP:20260420T032951
CREATED:20241201T185039Z
LAST-MODIFIED:20250108T025721Z
UID:2789-1736467200-1737244799@dadecountyalumnaedst.com
SUMMARY:Eyes Wide Open: Nine Days of Human Trafficking Awareness
DESCRIPTION:  \nJoin the Dade County Alumnae Chapter from January 10-18\, 2025 on social media as we raise awareness of the impacts of human trafficking in our community and beyond.  This campaign is designed to educate and empower community members using the power of social media. Like and follow us on Facebook\, Instagram\, X and YouTube to participate in this important public awareness activity.   
URL:https://dadecountyalumnaedst.com/event/eyes-wide-open-nine-days-of-human-trafficking-awareness/
LOCATION:FL
CATEGORIES:Community
ATTACH;FMTTYPE=image/png:https://dadecountyalumnaedst.com/wp-content/uploads/2024/12/HT-FLYER-e1736304073222.png
END:VEVENT
BEGIN:VEVENT
DTSTART;VALUE=DATE:20250125
DTEND;VALUE=DATE:20250126
DTSTAMP:20260420T032951
CREATED:20250125T221403Z
LAST-MODIFIED:20250125T221511Z
UID:2894-1737763200-1737849599@dadecountyalumnaedst.com
SUMMARY:2025 Scholarship Program
DESCRIPTION:Our 2025 Scholarship Program application will open on Monday\, February 3\, 2025. In preparation for the application submission period and process\, Dade County Alumnae Chapter's Scholarship Committee will host a Scholarship Workshop via Zoom on Sunday\, February 2nd at 3 p.m. for applicants and their parents/guardians to learn about the requirements for submission. Register for the Zoom workshop at https://bit.ly/Scholarworkshop.\n 
URL:https://dadecountyalumnaedst.com/event/2025-scholarship-program/
LOCATION:FL
CATEGORIES:Community
ATTACH;FMTTYPE=image/jpeg:https://dadecountyalumnaedst.com/wp-content/uploads/2025/01/2025-Scholarship-Workshop-Flyer.jpg
END:VEVENT
BEGIN:VEVENT
DTSTART;TZID=America/New_York:20250426T070000
DTEND;TZID=America/New_York:20250426T083000
DTSTAMP:20260420T032951
CREATED:20240917T062052Z
LAST-MODIFIED:20250404T061239Z
UID:2551-1745650800-1745656200@dadecountyalumnaedst.com
SUMMARY:2025 Fit & Fabulous Delta Dash 5K Run/Walk
DESCRIPTION:Dade County Alumnae's Fit & Fabulous Delta Dash 5K returns in 2025. Register today for what promises to be a fun-filled\, high-energy and health-boosting walk run and walk that kicks off on the grounds of the Betty T. Ferguson Recreational Complex. Registration is open. \nFollowing the 5K\, please join us for the chapter's free Passport to Good Health Community Health and Resource Fair at the Betty T. Ferguson Recreational Complex from 9 a.m. to 2 p.m.  \nProceeds from this year's Fit & Fabulous Delta Dash will benefit the American Cancer Society and the chapter's public service projects and programming.   \nWe can't wait to see you as we get Fit and Fabulous and enjoy a Passport to Good Health!   \n 
URL:https://dadecountyalumnaedst.com/event/2025-fit-fabulous-delta-dash-5k-run-walk/
LOCATION:3000 NW 199 Street\, Miami Gardens\, FL\, United States
CATEGORIES:Community,Fundraiser
ATTACH;FMTTYPE=image/jpeg:https://dadecountyalumnaedst.com/wp-content/uploads/2024/09/20255K_Flyer_v2HealthFair-resized-scaled.jpg
END:VEVENT
BEGIN:VEVENT
DTSTART;TZID=America/New_York:20250426T090000
DTEND;TZID=America/New_York:20250426T130000
DTSTAMP:20260420T032951
CREATED:20241201T174317Z
LAST-MODIFIED:20250313T053550Z
UID:2783-1745658000-1745672400@dadecountyalumnaedst.com
SUMMARY:Passport to Good Health Community Health & Wellness Fair
DESCRIPTION:Join the Dade County Alumnae Chapter for our Passport to Good Health Community Health Fair on Saturday\, April 26\, 2025.  The day begins with our Fit & Fabulous Delta Dash 5K at 7 a.m. Online registration for the 5K  is $35 for adults. Reduced registration fees are available for students.  \nImmediately following the 5K\, join us for a free health and wellness fair at the same location from 9 a.m. to 1 p.m. Activities include health and dental screenings\, valuable health resources and much more for you and your family.   \n 
URL:https://dadecountyalumnaedst.com/event/passport-to-good-health-community-health-fair/
LOCATION:Betty T. Ferguson Recreational Complex\, 3000 NW 199 Street\, Miami Gardens\, FL\, 33056\, United States
CATEGORIES:Community
ATTACH;FMTTYPE=image/png:https://dadecountyalumnaedst.com/wp-content/uploads/2024/12/IMG_7817.png
END:VEVENT
BEGIN:VEVENT
DTSTART;TZID=America/New_York:20250510T080000
DTEND;TZID=America/New_York:20250510T100000
DTSTAMP:20260420T032951
CREATED:20250402T055353Z
LAST-MODIFIED:20250402T055646Z
UID:3034-1746864000-1746871200@dadecountyalumnaedst.com
SUMMARY:National Alliance on Mental Health 5K Walk
DESCRIPTION:Join the Physical and Mental Health Committee in the Queen's Collaborative as we support the NAMI 5K Walk. Whether you walk\, jog\, or run\, your participation helps raise awareness and promotes mental health in our community. This is a free event\, but registration is required. Register now and be part of this transformative experience! We look forward to seeing you there. Please email dcac.pmh@gmail.com with any questions. 
URL:https://dadecountyalumnaedst.com/event/national-alliance-on-mental-health-5k-walk/
LOCATION:LoanDepot Park\, 501 Marlins Way\, Miami\, FL\, 33125\, United States
CATEGORIES:Community
ATTACH;FMTTYPE=image/png:https://dadecountyalumnaedst.com/wp-content/uploads/2025/04/PMH-May-Week-2025.png
END:VEVENT
BEGIN:VEVENT
DTSTART;TZID=America/New_York:20250514T180000
DTEND;TZID=America/New_York:20250514T193000
DTSTAMP:20260420T032951
CREATED:20250324T205502Z
LAST-MODIFIED:20250325T213754Z
UID:2988-1747245600-1747251000@dadecountyalumnaedst.com
SUMMARY:May Week 2025 -- Queenhood: Adjusting our Advocacy-Straightening our Crown
DESCRIPTION:DCAC's May Week 2025 Committee presents Queenhood: Adjusting our Advocacy-Straightening our Crown. Join us on Wednesday\, May 14\, 2025\, at 6:00 p.m. at the Betty T. Ferguson Recreational Center as we provide the community with vital information on estate planning\, wills\, and trusts and have conversations about advocacy and social action. \nState Representative Felicia Robinson and Ms. Kisha'sha B. Sharp\, Esq.\, will be our presenters. Daniella Pierre\, President of the NAACP-Miami Chapter\, will join these powerful women. \nEnjoy a visionary art experience as we display work from local artists. \nRegistration is free\, and light refreshments will be served.  We ask that you bring a children's book as we support the Neonatal Intensive Care Unit at Holtz Children's Hospital.
URL:https://dadecountyalumnaedst.com/event/may-week-2025-queenhood-adjusting-our-advocacy-straightening-our-crown/
LOCATION:3000 NW 199 Street\, Miami Gardens\, FL\, United States
CATEGORIES:Community
ATTACH;FMTTYPE=image/jpeg:https://dadecountyalumnaedst.com/wp-content/uploads/2025/03/May-Week-2025-Betty-T.-Ferguson-Recreational-Center-1-scaled.jpg
END:VEVENT
BEGIN:VEVENT
DTSTART;TZID=America/New_York:20250518T130000
DTEND;TZID=America/New_York:20250518T150000
DTSTAMP:20260420T032951
CREATED:20250404T061018Z
LAST-MODIFIED:20250404T061018Z
UID:3062-1747573200-1747580400@dadecountyalumnaedst.com
SUMMARY:Crowned for Success 2025 May Week & Scholarship Recognition Event
DESCRIPTION:Join the Dade County Alumnae Chapter's Scholarship and May Week Committees on Sunday\, May 18th as we celebrate our 2025 May Week honorees and high-achieving scholarship recipients. Tickets are $40 per person and registration is required by May 9\, 2025. Paid self-parking is available at the event via PayByPhone; hourly parking rates apply. 
URL:https://dadecountyalumnaedst.com/event/crowned-for-success-2025-may-week-scholarship-recognition-event/
LOCATION:Newman Alumni Center\, University of Miami\, 6200 San Amaro Drive\, Coral Gables\, Florida\, 33142
CATEGORIES:Community
ATTACH;FMTTYPE=image/jpeg:https://dadecountyalumnaedst.com/wp-content/uploads/2025/04/Crowned-for-Success-Event-Flyer-1.jpg
END:VEVENT
BEGIN:VEVENT
DTSTART;TZID=America/New_York:20250530T220000
DTEND;TZID=America/New_York:20250530T220000
DTSTAMP:20260420T032951
CREATED:20250516T054939Z
LAST-MODIFIED:20250516T055029Z
UID:3094-1748642400-1748642400@dadecountyalumnaedst.com
SUMMARY:The Black OWT: Denim and Black Edition
DESCRIPTION:  \n \nGet ready for a night where style meets an unforgettable vibe!\nJoin us for the Black OWT: Denim and Black Edition\, hosted by Dade County Alumnae Chapter of Delta Sigma Theta Sorority\, Inc.\, in partnership with Zeta Nu Nu Chapter of Omega Psi Phi Fraternity\, Inc. \nGrab your flyest denim and black outfit\, and get ready to party all night!\nTickets are available on Eventbrite. Scan the QR Code in the flyer to purchase your ticket.
URL:https://dadecountyalumnaedst.com/event/the-black-owt-denim-and-black-edition/
LOCATION:The Katz Restaurant and Lounge\, 738 NE 125 Street\, North Miami\, FL\, 33161\, United States
CATEGORIES:Community,Fundraiser
END:VEVENT
BEGIN:VEVENT
DTSTART;TZID=America/New_York:20250614T100000
DTEND;TZID=America/New_York:20250614T130000
DTSTAMP:20260420T032951
CREATED:20250309T200902Z
LAST-MODIFIED:20250309T200902Z
UID:2930-1749895200-1749906000@dadecountyalumnaedst.com
SUMMARY:Join DCAC for the 7th Annual Gospel Brunch Celebration
DESCRIPTION:You are invited to join us for our 7th Annual Gospel Brunch Celebration - The Wind Beneath Our Wings.\nSaturday\, June 14\, 2025 from 10am to 1pm\nFlorida Memorial University - Smith Conference Center\n15800 NW 42nd Avenue\, Miami\, FL 33056 \nOur event theme is "Our Black Is Beautiful-A Multicultural Experience" and we are honoring the Black Diaspora. You are invited to celebrate your heritage by wearing attire representing your culture. We're looking forward to a fun and exciting time! \nTickets are $65 per person and can be purchased at chapter meeting\, via mail\, or via Eventbrite at https://dcacdstgospelbrunch25.eventbrite.com/\nTable purchases are also available.\nTicket sales are open through June 7\, 2025.
URL:https://dadecountyalumnaedst.com/event/join-dcac-for-the-7th-annual-gospel-brunch-celebration/
LOCATION:Florida Memorial University – Smith Conference Center\, 15800 NW 42 Avenue\, Miami Gardens\, FL\, 33054\, United States
CATEGORIES:Community
ATTACH;FMTTYPE=image/png:https://dadecountyalumnaedst.com/wp-content/uploads/2025/03/Gospel-Brunch-2025-Flyer.png
END:VEVENT
END:VCALENDAR