BEGIN:VCALENDAR
VERSION:2.0
PRODID:-//Dade County Alumnae Chapter of Delta Sigma Theta Sorority, Inc. - ECPv6.5.1.3//NONSGML v1.0//EN
CALSCALE:GREGORIAN
METHOD:PUBLISH
X-ORIGINAL-URL:https://dadecountyalumnaedst.com
X-WR-CALDESC:Events for Dade County Alumnae Chapter of Delta Sigma Theta Sorority, Inc.
REFRESH-INTERVAL;VALUE=DURATION:PT1H
X-Robots-Tag:noindex
X-PUBLISHED-TTL:PT1H
BEGIN:VTIMEZONE
TZID:America/New_York
BEGIN:DAYLIGHT
TZOFFSETFROM:-0500
TZOFFSETTO:-0400
TZNAME:EDT
DTSTART:20250309T070000
END:DAYLIGHT
BEGIN:STANDARD
TZOFFSETFROM:-0400
TZOFFSETTO:-0500
TZNAME:EST
DTSTART:20251102T060000
END:STANDARD
END:VTIMEZONE
BEGIN:VEVENT
DTSTART;TZID=America/New_York:20250514T180000
DTEND;TZID=America/New_York:20250514T193000
DTSTAMP:20260419T121919
CREATED:20250324T205502Z
LAST-MODIFIED:20250325T213754Z
UID:2988-1747245600-1747251000@dadecountyalumnaedst.com
SUMMARY:May Week 2025 -- Queenhood: Adjusting our Advocacy-Straightening our Crown
DESCRIPTION:DCAC's May Week 2025 Committee presents Queenhood: Adjusting our Advocacy-Straightening our Crown. Join us on Wednesday\, May 14\, 2025\, at 6:00 p.m. at the Betty T. Ferguson Recreational Center as we provide the community with vital information on estate planning\, wills\, and trusts and have conversations about advocacy and social action. \nState Representative Felicia Robinson and Ms. Kisha'sha B. Sharp\, Esq.\, will be our presenters. Daniella Pierre\, President of the NAACP-Miami Chapter\, will join these powerful women. \nEnjoy a visionary art experience as we display work from local artists. \nRegistration is free\, and light refreshments will be served.  We ask that you bring a children's book as we support the Neonatal Intensive Care Unit at Holtz Children's Hospital.
URL:https://dadecountyalumnaedst.com/event/may-week-2025-queenhood-adjusting-our-advocacy-straightening-our-crown/
LOCATION:3000 NW 199 Street\, Miami Gardens\, FL\, United States
CATEGORIES:Community
ATTACH;FMTTYPE=image/jpeg:https://dadecountyalumnaedst.com/wp-content/uploads/2025/03/May-Week-2025-Betty-T.-Ferguson-Recreational-Center-1-scaled.jpg
END:VEVENT
END:VCALENDAR