BEGIN:VCALENDAR
VERSION:2.0
PRODID:-//Dade County Alumnae Chapter of Delta Sigma Theta Sorority, Inc. - ECPv6.5.1.3//NONSGML v1.0//EN
CALSCALE:GREGORIAN
METHOD:PUBLISH
X-ORIGINAL-URL:https://dadecountyalumnaedst.com
X-WR-CALDESC:Events for Dade County Alumnae Chapter of Delta Sigma Theta Sorority, Inc.
REFRESH-INTERVAL;VALUE=DURATION:PT1H
X-Robots-Tag:noindex
X-PUBLISHED-TTL:PT1H
BEGIN:VTIMEZONE
TZID:America/New_York
BEGIN:DAYLIGHT
TZOFFSETFROM:-0500
TZOFFSETTO:-0400
TZNAME:EDT
DTSTART:20250309T070000
END:DAYLIGHT
BEGIN:STANDARD
TZOFFSETFROM:-0400
TZOFFSETTO:-0500
TZNAME:EST
DTSTART:20251102T060000
END:STANDARD
END:VTIMEZONE
BEGIN:VEVENT
DTSTART;TZID=America/New_York:20250510T080000
DTEND;TZID=America/New_York:20250510T100000
DTSTAMP:20260419T121919
CREATED:20250402T055353Z
LAST-MODIFIED:20250402T055646Z
UID:3034-1746864000-1746871200@dadecountyalumnaedst.com
SUMMARY:National Alliance on Mental Health 5K Walk
DESCRIPTION:Join the Physical and Mental Health Committee in the Queen's Collaborative as we support the NAMI 5K Walk. Whether you walk\, jog\, or run\, your participation helps raise awareness and promotes mental health in our community. This is a free event\, but registration is required. Register now and be part of this transformative experience! We look forward to seeing you there. Please email dcac.pmh@gmail.com with any questions. 
URL:https://dadecountyalumnaedst.com/event/national-alliance-on-mental-health-5k-walk/
LOCATION:LoanDepot Park\, 501 Marlins Way\, Miami\, FL\, 33125\, United States
CATEGORIES:Community
ATTACH;FMTTYPE=image/png:https://dadecountyalumnaedst.com/wp-content/uploads/2025/04/PMH-May-Week-2025.png
END:VEVENT
END:VCALENDAR