BEGIN:VCALENDAR
VERSION:2.0
PRODID:-//Dade County Alumnae Chapter of Delta Sigma Theta Sorority, Inc. - ECPv6.5.1.3//NONSGML v1.0//EN
CALSCALE:GREGORIAN
METHOD:PUBLISH
X-ORIGINAL-URL:https://dadecountyalumnaedst.com
X-WR-CALDESC:Events for Dade County Alumnae Chapter of Delta Sigma Theta Sorority, Inc.
REFRESH-INTERVAL;VALUE=DURATION:PT1H
X-Robots-Tag:noindex
X-PUBLISHED-TTL:PT1H
BEGIN:VTIMEZONE
TZID:America/New_York
BEGIN:DAYLIGHT
TZOFFSETFROM:-0500
TZOFFSETTO:-0400
TZNAME:EDT
DTSTART:20240310T070000
END:DAYLIGHT
BEGIN:STANDARD
TZOFFSETFROM:-0400
TZOFFSETTO:-0500
TZNAME:EST
DTSTART:20241103T060000
END:STANDARD
END:VTIMEZONE
BEGIN:VEVENT
DTSTART;TZID=America/New_York:20241026T110000
DTEND;TZID=America/New_York:20241026T130000
DTSTAMP:20260419T234428
CREATED:20240911T160045Z
LAST-MODIFIED:20240923T073918Z
UID:2504-1729940400-1729947600@dadecountyalumnaedst.com
SUMMARY:Crimson & Cream Conversations Presents "Inhale the Facts: Vaping Exposed"
DESCRIPTION:Join the Dade County Alumnae Chapter's Physical and Mental Health and Educational Development Committees and the City of Miami's Parks and Recreation for this educational event which aims to inform and engage youth about the hidden dangers of vaping and how it can lead to addiction. Through interactive workshops\, real-life testimonials\, and expert presentations\, participants will learn about the harmful chemicals in vape products\, the health risks associated with vaping\, and the ways nicotine addiction can take hold. The event will also include discussions on peer pressure\, strategies for resisting vaping and resources for quitting. By the end of the program\, attendees will leave with a deeper understanding of how vaping impacts their health and future\, empowering them to make healthier choices. Special guest for this event is Gospel Recording Artist Uncle Reece. This event is free and open to the public. Register today on Eventbrite.
URL:https://dadecountyalumnaedst.com/event/crimson-cream-conversations-presents-inhale-the-facts-vaping-exposed/
LOCATION:Little Haiti Cultural Complex\, 212 NE 59 Terrace\, Miami\, FL\, 33137\, United States
CATEGORIES:Community
ATTACH;FMTTYPE=image/png:https://dadecountyalumnaedst.com/wp-content/uploads/2024/09/87_Crimson-Cream-Conversations-Flyer-4_7842.png
END:VEVENT
END:VCALENDAR