BEGIN:VCALENDAR
VERSION:2.0
PRODID:-//Dade County Alumnae Chapter of Delta Sigma Theta Sorority, Inc. - ECPv6.5.1.3//NONSGML v1.0//EN
CALSCALE:GREGORIAN
METHOD:PUBLISH
X-ORIGINAL-URL:https://dadecountyalumnaedst.com
X-WR-CALDESC:Events for Dade County Alumnae Chapter of Delta Sigma Theta Sorority, Inc.
REFRESH-INTERVAL;VALUE=DURATION:PT1H
X-Robots-Tag:noindex
X-PUBLISHED-TTL:PT1H
BEGIN:VTIMEZONE
TZID:America/New_York
BEGIN:DAYLIGHT
TZOFFSETFROM:-0500
TZOFFSETTO:-0400
TZNAME:EDT
DTSTART:20240310T070000
END:DAYLIGHT
BEGIN:STANDARD
TZOFFSETFROM:-0400
TZOFFSETTO:-0500
TZNAME:EST
DTSTART:20241103T060000
END:STANDARD
END:VTIMEZONE
BEGIN:VEVENT
DTSTART;TZID=America/New_York:20240928T073000
DTEND;TZID=America/New_York:20240928T100000
DTSTAMP:20260420T013224
CREATED:20240906T232740Z
LAST-MODIFIED:20240923T073826Z
UID:2488-1727508600-1727517600@dadecountyalumnaedst.com
SUMMARY:DCAC Supports St. Jude Walk/Run
DESCRIPTION:Join the Dade County Alumnae Chapter Deltas as we support the 2024 St. Jude Walk on Saturday\, September 28th at the Miami Dade County Fair & Expo Center -- 10901 Coral Way. The Opening Ceremony takes place at 7:30 a.m. and the Walk/Run starts at 8 a.m. \nSt. Jude is one of Delta Sigma Theta Sorority's National Charitable Partners. This is DCAC's second year supporting this charitable event. We’d love to have you make a donation and/or walk with our team as we support important research and the fight against pediatric cancer.  \nVisit the Dade County Alumnae Chapter Delta's fundraising page and become a member of our team. For additional information\, contact the Team Captains through the PMH Committee email at dcac.pmh@gmail.com.
URL:https://dadecountyalumnaedst.com/event/dcac-supports-st-jude-walk-run/
LOCATION:Dade County Fair & Expo\, 10901 Coral Way\, Miami\, United States
CATEGORIES:Community
ATTACH;FMTTYPE=image/jpeg:https://dadecountyalumnaedst.com/wp-content/uploads/2024/09/IMG_5927-1.jpg
END:VEVENT
END:VCALENDAR