BEGIN:VCALENDAR
VERSION:2.0
PRODID:-//Dade County Alumnae Chapter of Delta Sigma Theta Sorority, Inc. - ECPv6.5.1.3//NONSGML v1.0//EN
CALSCALE:GREGORIAN
METHOD:PUBLISH
X-ORIGINAL-URL:https://dadecountyalumnaedst.com
X-WR-CALDESC:Events for Dade County Alumnae Chapter of Delta Sigma Theta Sorority, Inc.
REFRESH-INTERVAL;VALUE=DURATION:PT1H
X-Robots-Tag:noindex
X-PUBLISHED-TTL:PT1H
BEGIN:VTIMEZONE
TZID:America/New_York
BEGIN:DAYLIGHT
TZOFFSETFROM:-0500
TZOFFSETTO:-0400
TZNAME:EDT
DTSTART:20240310T070000
END:DAYLIGHT
BEGIN:STANDARD
TZOFFSETFROM:-0400
TZOFFSETTO:-0500
TZNAME:EST
DTSTART:20241103T060000
END:STANDARD
END:VTIMEZONE
BEGIN:VEVENT
DTSTART;TZID=America/New_York:20240923T000000
DTEND;TZID=America/New_York:20240927T235900
DTSTAMP:20260420T013224
CREATED:20240923T032627Z
LAST-MODIFIED:20240923T034035Z
UID:2635-1727049600-1727481540@dadecountyalumnaedst.com
SUMMARY:National Hazing Prevention Week
DESCRIPTION:Delta Sigma Theta Sorority\, Inc. wholeheartedly embraces National Hazing Prevention Week as we choose Violets Over Violence alongside our steadfast dedication to social action and advocacy. We strive to drive meaningful change by preventing hazing and actively engaging in societal issues. Through educational endeavors\, community involvement\, advocacy for anti-hazing policies\, support for survivors\, and collaborative efforts with like-minded organizations\, we assert our commitment to fostering safer and more just communities. By intertwining our resolve for hazing prevention with our dedication to social action\, Delta Sigma Theta Sorority\, Inc. stands as a powerful force for positive transformation\, advocating for equity\, justice\, and respect for all.
URL:https://dadecountyalumnaedst.com/event/national-hazing-prevention-week/
LOCATION:FL
CATEGORIES:Community
ATTACH;FMTTYPE=image/jpeg:https://dadecountyalumnaedst.com/wp-content/uploads/2024/09/IMG_9065.jpeg
END:VEVENT
END:VCALENDAR