BEGIN:VCALENDAR
VERSION:2.0
PRODID:-//Dade County Alumnae Chapter of Delta Sigma Theta Sorority, Inc. - ECPv6.5.1.3//NONSGML v1.0//EN
CALSCALE:GREGORIAN
METHOD:PUBLISH
X-ORIGINAL-URL:https://dadecountyalumnaedst.com
X-WR-CALDESC:Events for Dade County Alumnae Chapter of Delta Sigma Theta Sorority, Inc.
REFRESH-INTERVAL;VALUE=DURATION:PT1H
X-Robots-Tag:noindex
X-PUBLISHED-TTL:PT1H
BEGIN:VTIMEZONE
TZID:America/New_York
BEGIN:DAYLIGHT
TZOFFSETFROM:-0500
TZOFFSETTO:-0400
TZNAME:EDT
DTSTART:20240310T070000
END:DAYLIGHT
BEGIN:STANDARD
TZOFFSETFROM:-0400
TZOFFSETTO:-0500
TZNAME:EST
DTSTART:20241103T060000
END:STANDARD
END:VTIMEZONE
BEGIN:VEVENT
DTSTART;VALUE=DATE:20240511
DTEND;VALUE=DATE:20240519
DTSTAMP:20260422T073249
CREATED:20240512T202331Z
LAST-MODIFIED:20240512T203321Z
UID:1994-1715385600-1716076799@dadecountyalumnaedst.com
SUMMARY:May Week 2024 Events
DESCRIPTION:The Dade County Alumnae Chapter of Delta Sigma Theta\, Incorporated is pleased to announce our list of 2024 May Week events. Please join see the below event information and join us!
URL:https://dadecountyalumnaedst.com/event/may-week-2024-events/
LOCATION:FL
CATEGORIES:Community
END:VEVENT
END:VCALENDAR