BEGIN:VCALENDAR
VERSION:2.0
PRODID:-//Dade County Alumnae Chapter of Delta Sigma Theta Sorority, Inc. - ECPv6.5.1.3//NONSGML v1.0//EN
CALSCALE:GREGORIAN
METHOD:PUBLISH
X-ORIGINAL-URL:https://dadecountyalumnaedst.com
X-WR-CALDESC:Events for Dade County Alumnae Chapter of Delta Sigma Theta Sorority, Inc.
REFRESH-INTERVAL;VALUE=DURATION:PT1H
X-Robots-Tag:noindex
X-PUBLISHED-TTL:PT1H
BEGIN:VTIMEZONE
TZID:America/New_York
BEGIN:DAYLIGHT
TZOFFSETFROM:-0500
TZOFFSETTO:-0400
TZNAME:EDT
DTSTART:20240310T070000
END:DAYLIGHT
BEGIN:STANDARD
TZOFFSETFROM:-0400
TZOFFSETTO:-0500
TZNAME:EST
DTSTART:20241103T060000
END:STANDARD
END:VTIMEZONE
BEGIN:VEVENT
DTSTART;TZID=America/New_York:20241214T100000
DTEND;TZID=America/New_York:20241214T130000
DTSTAMP:20260419T190756
CREATED:20240828T223942Z
LAST-MODIFIED:20241208T021019Z
UID:2468-1734170400-1734181200@dadecountyalumnaedst.com
SUMMARY:The Little Red Dress 2024
DESCRIPTION:DCAC is proud to announce its 2024 Little Red Dress Event Honorees.  We're recognizing 11 social action warriors during this year's event which will also celebrate Delta Sigma Theta's 111 years of social action.  Join us on Saturday\, December 14th at 10 a.m. at the Intercontinental Doral located at 2505 NW 87 Avenue in Doral. Tickets are $75 per person and can be purchased on Eventbrite until Wednesday\, December 11th.  \n 
URL:https://dadecountyalumnaedst.com/event/the-little-red-dress-2024/
LOCATION:Intercontinental Doral\, 2505 NW 87th Avenue\, Doral\, 33172\, United States
CATEGORIES:Community,Fundraiser
ATTACH;FMTTYPE=image/jpeg:https://dadecountyalumnaedst.com/wp-content/uploads/2024/08/RedDressFlyer_Honoree_Media6x4.jpg
END:VEVENT
END:VCALENDAR