BEGIN:VCALENDAR
VERSION:2.0
PRODID:-//Dade County Alumnae Chapter of Delta Sigma Theta Sorority, Inc. - ECPv6.5.1.3//NONSGML v1.0//EN
CALSCALE:GREGORIAN
METHOD:PUBLISH
X-ORIGINAL-URL:https://dadecountyalumnaedst.com
X-WR-CALDESC:Events for Dade County Alumnae Chapter of Delta Sigma Theta Sorority, Inc.
REFRESH-INTERVAL;VALUE=DURATION:PT1H
X-Robots-Tag:noindex
X-PUBLISHED-TTL:PT1H
BEGIN:VTIMEZONE
TZID:America/New_York
BEGIN:DAYLIGHT
TZOFFSETFROM:-0500
TZOFFSETTO:-0400
TZNAME:EDT
DTSTART:20240310T070000
END:DAYLIGHT
BEGIN:STANDARD
TZOFFSETFROM:-0400
TZOFFSETTO:-0500
TZNAME:EST
DTSTART:20241103T060000
END:STANDARD
END:VTIMEZONE
BEGIN:VEVENT
DTSTART;TZID=America/New_York:20240627T190000
DTEND;TZID=America/New_York:20240627T223000
DTSTAMP:20260422T044415
CREATED:20240617T024727Z
LAST-MODIFIED:20240619T035733Z
UID:2146-1719514800-1719527400@dadecountyalumnaedst.com
SUMMARY:Presidential Debate Watch Party
DESCRIPTION:The Dade County Alumnae Chapter of Delta Sigma Theta Sorority\, Inc.\, in partnership with State Representative Felicia Robinson and the Miami-Dade Branch of the NAACP\, invites you to attend a free Presidential Debate Watch Party on Thursday\, June 27th beginning at 7 p.m. at The Carrie Meek Foundation -- 4000 NW 142 Street\, Opa-locka.  Join us for voter education and Q&A sessions. Light refreshments will be served.   \nRegister your attendance for this free event at https://dcacpresidentialwatch2024.eventbrite.com/ \nFor more information\, contact Political Awareness and Involvement Committee Chair Joyce Postell at dcac.political@gmail.com.
URL:https://dadecountyalumnaedst.com/event/presidential-watch-debate-party/
LOCATION:Carrie Meek Foundation\, 4000 NW 142 Street\, Opa-locka\, 33054\, United States
CATEGORIES:Community
ATTACH;FMTTYPE=image/png:https://dadecountyalumnaedst.com/wp-content/uploads/2024/06/Presidential-Debate-Watch.png
END:VEVENT
END:VCALENDAR